BEGIN:VCALENDAR
VERSION:2.0
PRODID:-//eventon.com NONSGML v1.0//EN
CALSCALE:GREGORIAN
METHOD:PUBLISH
BEGIN:VEVENT
UID:69ebb2ba97a99
DTSTAMP:20260424T181314Z
DTSTART:20260520T200000Z
DTEND:20260520T210000Z
LOCATION:
SUMMARY:Wellness Wednesday
DESCRIPTION:Are you under stress? Trying to avoid burnout? Is so\,  come le
 arn about some sustainable mental health skills for school\,  work and life
  at the next Wellness Wednesday on May 20 from 1 to 2 pm on Zoom.\nhttps://
 namisandiego.org/events/wellness-wednesday-10/
URL:https://namisandiego.org/events/wellness-wednesday-10/
END:VEVENT
END:VCALENDAR