BEGIN:VCALENDAR
VERSION:2.0
PRODID:-//eventon.com NONSGML v1.0//EN
CALSCALE:GREGORIAN
METHOD:PUBLISH
BEGIN:VEVENT
UID:69e9edfecdffb
DTSTAMP:20260423T100134Z
DTSTART:20260707T170000Z
DTEND:20260707T193000Z
LOCATION:
SUMMARY:Family to Family - July 7 to July 30
DESCRIPTION:This free program for Adults (18 and older) is comprised of a s
 eries of eight (8) classes for the families of persons with serious and per
 sistent brain disorders (mental illnesses). These classes represent a new c
 oncept and curriculum. Teachers are family members themselves who have a lo
 ved one living with[..]\nhttps://namisandiego.org/events/family-to-family-j
 uly-7-to-july-30/
URL:https://namisandiego.org/events/family-to-family-july-7-to-july-30/
END:VEVENT
END:VCALENDAR