BEGIN:VCALENDAR
VERSION:2.0
PRODID:-//eventon.com NONSGML v1.0//EN
CALSCALE:GREGORIAN
METHOD:PUBLISH
BEGIN:VEVENT
UID:69ebc825c7090
DTSTAMP:20260424T194437Z
DTSTART:20260316T210000Z
DTEND:20260316T224500Z
LOCATION:https://namisd-org.zoom.us/meeting/register/wX-m1eOSQfKGpdKTCicr_A
SUMMARY:NAMI Smarts: Telling Your Story Training
DESCRIPTION:NAMI Smarts: Telling Your Story Training We&#8217;ll talk abou
 t why advocacy for mental health care is so important and the power of your
  story to influence others\,  especially policymakers. When you leave this 
 workshop\,  our goal is that you take with you a version of your story that
  you can use[..]\nhttps://namisandiego.org/events/nami-smarts-telling-your-
 story-training-9/
URL:https://namisandiego.org/events/nami-smarts-telling-your-story-training-9/
END:VEVENT
END:VCALENDAR