BEGIN:VCALENDAR
VERSION:2.0
PRODID:-//eventon.com NONSGML v1.0//EN
CALSCALE:GREGORIAN
METHOD:PUBLISH
BEGIN:VEVENT
UID:69e9ed152052d
DTSTAMP:20260423T095741Z
DTSTART:20260407T010000Z
DTEND:20260407T033000Z
LOCATION:
SUMMARY:F2F- April 06 to April 29
DESCRIPTION:This free program for Adults (18 and older) is comprised of a s
 eries of eight (8) classes for the families of persons with serious and per
 sistent brain disorders (mental illnesses). These classes represent a new c
 oncept and curriculum. Teachers are family members themselves who have a lo
 ved one living with[..]\nhttps://namisandiego.org/events/f2f-april-06-to-ap
 ril-29/
URL:https://namisandiego.org/events/f2f-april-06-to-april-29/
END:VEVENT
END:VCALENDAR