BEGIN:VCALENDAR
VERSION:2.0
PRODID:-//eventon.com NONSGML v1.0//EN
CALSCALE:GREGORIAN
METHOD:PUBLISH
BEGIN:VEVENT
UID:69ebdcac2f42b
DTSTAMP:20260424T211212Z
DTSTART:20251119T210000Z
DTEND:20251119T220000Z
LOCATION:
SUMMARY:Wellness Wednesday
DESCRIPTION:Tis the season for feeling grateful and on Wednesday Nov 19 we&
 #8217;ll talk about the power of gratitude and how to cultivate it in our o
 wn lives on a regular basis. Please join us live from 1 to 2 pm on Zoom! &n
 bsp;\nhttps://namisandiego.org/events/wellness-wednesday-5/
URL:https://namisandiego.org/events/wellness-wednesday-5/
END:VEVENT
END:VCALENDAR