BEGIN:VCALENDAR
VERSION:2.0
PRODID:-//eventon.com NONSGML v1.0//EN
CALSCALE:GREGORIAN
METHOD:PUBLISH
BEGIN:VEVENT
UID:69ebb2f78767a
DTSTAMP:20260424T181415Z
DTSTART:20251009T210000Z
DTEND:20251009T223000Z
LOCATION:https://us02web.zoom.us/meeting/register/7lHG6bI8T92P-M8DkQnmbA
SUMMARY:NAMI Smarts: Meeting Your Policymaker Training
DESCRIPTION:Advocacy has come a long way since letter-writing campaigns wer
 e the best way to engage your elected officials. When you leave this traini
 ng\,  we hope you will feel comfortable adapting your story for a multitude
  of communication methods. We suggest that you take our NAMI SMARTS Telling
  Your Story before[..]\nhttps://namisandiego.org/events/nami-smarts-meeting
 -your-policymaker-training-2/var/event_access
URL:https://namisandiego.org/events/nami-smarts-meeting-your-policymaker-training-2/var/event_access
END:VEVENT
END:VCALENDAR