BEGIN:VCALENDAR
VERSION:2.0
PRODID:-//eventon.com NONSGML v1.0//EN
CALSCALE:GREGORIAN
METHOD:PUBLISH
BEGIN:VEVENT
UID:69ebb2dc32b1d
DTSTAMP:20260424T181348Z
DTSTART:20251024T010000Z
DTEND:20251024T033000Z
LOCATION:
SUMMARY:NAMI De Familia A Familia: 23 de Octubre al 18 de Diciembre
DESCRIPTION:NAMI de Familia a Familia Este programa gratuito para Adultos (
 mayores de 18 años) se compone de una serie de ocho (8) clases para los fa
 miliares de persona con trastornos cerebrales graves y persistentes (enferm
 edades mentales). Esta clase representa un nuevo concepto y plan de estudio
 s. Los maestros sonmiembros de[..]\nhttps://namisandiego.org/events/nami-de
 -familia-a-familia-23-de-octubre-al-18-de-diciembre/
URL:https://namisandiego.org/events/nami-de-familia-a-familia-23-de-octubre-al-18-de-diciembre/
END:VEVENT
END:VCALENDAR