BEGIN:VCALENDAR
VERSION:2.0
PRODID:-//eventon.com NONSGML v1.0//EN
CALSCALE:GREGORIAN
METHOD:PUBLISH
BEGIN:VEVENT
UID:69ebc7f1d4c42
DTSTAMP:20260424T194345Z
DTSTART:20260211T210000Z
DTEND:20260211T223000Z
LOCATION:
SUMMARY:Family Voice - The L.E.A.P. Method
DESCRIPTION:Please join us on Wednesday\,  February 11th at 1:00 PM for an 
 engaging presentation by Dr. Jim Fix on the LEAP Method. Listen. Empathize.
  Agree. Prtner. L.E.A.P. helps you create relationships that lead to treatm
 ent even when they person does not believe that they are ill. L.E.A.P. is a
 n evidence[..]\nhttps://namisandiego.org/events/family-voice-the-l-e-a-p-me
 thod/
URL:https://namisandiego.org/events/family-voice-the-l-e-a-p-method/
END:VEVENT
END:VCALENDAR