BEGIN:VCALENDAR
VERSION:2.0
PRODID:-//eventon.com NONSGML v1.0//EN
CALSCALE:GREGORIAN
METHOD:PUBLISH
BEGIN:VEVENT
UID:69ebc84b66d8e
DTSTAMP:20260424T194515Z
DTSTART:20250814T210000Z
DTEND:20250814T223000Z
LOCATION:https://us02web.zoom.us/meeting/register/YLVfyqEASUKmNs0VEjuFhw
SUMMARY:NAMI SMARTS: Contacting Your Policymaker
DESCRIPTION:Advocacy has come a long way since letter-writing campaigns wer
 e the best way to engage your elected officials. When you leave this traini
 ng\,  we hope you will feel comfortable adapting your story for a multitude
  of communication methods. We suggest that you take our NAMI SMARTS Telling
  Your Story before[..]\nhttps://namisandiego.org/events/nami-smarts-contact
 ing-your-policymaker/var/event_access
URL:https://namisandiego.org/events/nami-smarts-contacting-your-policymaker/var/event_access
END:VEVENT
END:VCALENDAR