BEGIN:VCALENDAR
VERSION:2.0
PRODID:-//eventon.com NONSGML v1.0//EN
CALSCALE:GREGORIAN
METHOD:PUBLISH
BEGIN:VEVENT
UID:69ebc81c44d0d
DTSTAMP:20260424T194428Z
DTSTART:20250620T210000Z
DTEND:20250620T223000Z
LOCATION:https://us02web.zoom.us/meeting/register/AdM_QzRhR-ihcEJDZdJe-A
SUMMARY:Consumer Feedback Town Hall: Substance Use Disorder
DESCRIPTION:Please join us for the NAMI San Diego Consumer Feedback Town Ha
 ll that is being held on June 20th\,  2025 2:00 PM-3:30PM to gather public 
 comment and feedback regarding Substance Use Disorder in San Diego County. 
 This is a place to provide public comment regarding Substance Use Disorder 
 in San[..]\nhttps://namisandiego.org/events/consumer-feedback-town-hall-sub
 stance-use-disorder/var/event_access
URL:https://namisandiego.org/events/consumer-feedback-town-hall-substance-use-disorder/var/event_access
END:VEVENT
END:VCALENDAR