BEGIN:VCALENDAR
VERSION:2.0
PRODID:-//eventon.com NONSGML v1.0//EN
CALSCALE:GREGORIAN
METHOD:PUBLISH
BEGIN:VEVENT
UID:69ebdc5e27eca
DTSTAMP:20260424T211054Z
DTSTART:20250911T010000Z
DTEND:20250911T023000Z
LOCATION:
SUMMARY:Family Voice- Supporting Youth Mental Health
DESCRIPTION:Please join us for an engaging and informative Family Voice- Su
 pporting Youth Mental Health: What Can We Do TODAY? Young people today are 
 navigating a world filled with pressure\,  including social\,  emotional\, 
  and financial stressors\,  and are often expected to manage it all with st
 rength and resilience. While youth are[..]\nhttps://namisandiego.org/events
 /family-voice-supporting-youth-mental-health/
URL:https://namisandiego.org/events/family-voice-supporting-youth-mental-health/
END:VEVENT
END:VCALENDAR