BEGIN:VCALENDAR
VERSION:2.0
PRODID:-//eventon.com NONSGML v1.0//EN
CALSCALE:GREGORIAN
METHOD:PUBLISH
BEGIN:VEVENT
UID:69ebc7e2d77c8
DTSTAMP:20260424T194330Z
DTSTART:20250709T200000Z
DTEND:20250709T213000Z
LOCATION:
SUMMARY:Family Voice- NAMI Apps
DESCRIPTION:Please join us to learn more about or wonderful app resources- 
 oscER\,  oscER Jr and alfrEDU! oscER- Your guide to navigating a mental hea
 lth or substance use crisis now featuring quick access to crisis lines and 
 services. Find local San Diego resources\,  community supports\,  FAQ about
  mental health and more!![..]\nhttps://namisandiego.org/events/family-voice
 -nami-apps/
URL:https://namisandiego.org/events/family-voice-nami-apps/
END:VEVENT
END:VCALENDAR